BEGIN:VCALENDAR
VERSION:2.0
PRODID:-//Clanmore - ECPv6.15.20//NONSGML v1.0//EN
CALSCALE:GREGORIAN
METHOD:PUBLISH
X-WR-CALNAME:Clanmore
X-ORIGINAL-URL:https://clanmore.ca
X-WR-CALDESC:Events for Clanmore
REFRESH-INTERVAL;VALUE=DURATION:PT1H
X-Robots-Tag:noindex
X-PUBLISHED-TTL:PT1H
BEGIN:VTIMEZONE
TZID:America/Toronto
BEGIN:DAYLIGHT
TZOFFSETFROM:-0500
TZOFFSETTO:-0400
TZNAME:EDT
DTSTART:20230312T070000
END:DAYLIGHT
BEGIN:STANDARD
TZOFFSETFROM:-0400
TZOFFSETTO:-0500
TZNAME:EST
DTSTART:20231105T060000
END:STANDARD
BEGIN:DAYLIGHT
TZOFFSETFROM:-0500
TZOFFSETTO:-0400
TZNAME:EDT
DTSTART:20240310T070000
END:DAYLIGHT
BEGIN:STANDARD
TZOFFSETFROM:-0400
TZOFFSETTO:-0500
TZNAME:EST
DTSTART:20241103T060000
END:STANDARD
BEGIN:DAYLIGHT
TZOFFSETFROM:-0500
TZOFFSETTO:-0400
TZNAME:EDT
DTSTART:20250309T070000
END:DAYLIGHT
BEGIN:STANDARD
TZOFFSETFROM:-0400
TZOFFSETTO:-0500
TZNAME:EST
DTSTART:20251102T060000
END:STANDARD
END:VTIMEZONE
BEGIN:VEVENT
DTSTART;TZID=America/Toronto:20240405T083000
DTEND;TZID=America/Toronto:20240405T100000
DTSTAMP:20260419T141125
CREATED:20240402T172108Z
LAST-MODIFIED:20240405T125242Z
UID:10000597-1712305800-1712311200@clanmore.ca
SUMMARY:MS Crossroads Cafe
DESCRIPTION:For this week's cafe we will be serving:Savoury Corn Pancakes with Avocado\, Tomato\, and Bacon \n The Middle School students are thrilled to invite you to the  Crossroads Cafe. For those who are new\, this is a Middle School student-run cafe that takes place on a weekly basis on Friday mornings in the link (hallway near reception). Please look for our weekly email.   \n The Crossroads Cafe allows us to work with clientele and learn about running a small business\, practicing many skills such as leadership\, confidence in speaking with adults in our community\, cooking skills\, organizational skills\, money work\, time management\, etc.   \n This is an opportunity for you to meet new people and enjoy some homemade breakfast. We look forward to seeing you on Friday morning\, between 8:30 and 10:00am.
URL:https://clanmore.ca/event/ms-crossroads-cafe-22/
END:VEVENT
END:VCALENDAR