BEGIN:VCALENDAR
VERSION:2.0
PRODID:-//Clanmore - ECPv6.15.20//NONSGML v1.0//EN
CALSCALE:GREGORIAN
METHOD:PUBLISH
X-ORIGINAL-URL:https://clanmore.ca
X-WR-CALDESC:Events for Clanmore
REFRESH-INTERVAL;VALUE=DURATION:PT1H
X-Robots-Tag:noindex
X-PUBLISHED-TTL:PT1H
BEGIN:VTIMEZONE
TZID:America/Toronto
BEGIN:DAYLIGHT
TZOFFSETFROM:-0500
TZOFFSETTO:-0400
TZNAME:EDT
DTSTART:20240310T070000
END:DAYLIGHT
BEGIN:STANDARD
TZOFFSETFROM:-0400
TZOFFSETTO:-0500
TZNAME:EST
DTSTART:20241103T060000
END:STANDARD
BEGIN:DAYLIGHT
TZOFFSETFROM:-0500
TZOFFSETTO:-0400
TZNAME:EDT
DTSTART:20250309T070000
END:DAYLIGHT
BEGIN:STANDARD
TZOFFSETFROM:-0400
TZOFFSETTO:-0500
TZNAME:EST
DTSTART:20251102T060000
END:STANDARD
BEGIN:DAYLIGHT
TZOFFSETFROM:-0500
TZOFFSETTO:-0400
TZNAME:EDT
DTSTART:20260308T070000
END:DAYLIGHT
BEGIN:STANDARD
TZOFFSETFROM:-0400
TZOFFSETTO:-0500
TZNAME:EST
DTSTART:20261101T060000
END:STANDARD
END:VTIMEZONE
BEGIN:VEVENT
DTSTART;TZID=America/Toronto:20250416T083000
DTEND;TZID=America/Toronto:20250416T103000
DTSTAMP:20260422T070827
CREATED:20250416T134048Z
LAST-MODIFIED:20250416T134048Z
UID:10000917-1744792200-1744799400@clanmore.ca
SUMMARY:MS Crossroads Cafe
DESCRIPTION:We're back from the long March Break and would like to invite you to our next Cafe on Wednesday\, April 16th\, from 8:30 to 10:30 a.m. We will be serving our famous Cinnamon Scones along with our special Crossroads Classic coffee\, regularly brewed\, caffeinated\, or decaf coffee\, and a variety of teas. \nWe are excited to be back and hope you can join us in the Greene room by the fire.
URL:https://clanmore.ca/event/ms-crossroads-cafe-33/
END:VEVENT
BEGIN:VEVENT
DTSTART;TZID=America/Toronto:20250416T141500
DTEND;TZID=America/Toronto:20250416T151500
DTSTAMP:20260422T070827
CREATED:20240603T174736Z
LAST-MODIFIED:20250416T134054Z
UID:10000740-1744812900-1744816500@clanmore.ca
SUMMARY:LEE Student-Led Classroom Demonstrations
DESCRIPTION:We are excited to invite you to the Elementary Student-Led Demonstration in our classroom! As part of our ongoing learning and growth\, your child will have the opportunity to present a piece of material they have been working on and perform a short French play. \nThis presentation will allow your child to showcase the skills and knowledge they have gained throughout their lessons. It is a wonderful way for them to demonstrate their understanding in a creative and interactive way. \nDetails of the Event: \n\nDate and Time: Wednesday\, April 16 at 2:15 – 3:15 pm\n\nLocation: Clanmore Montessori – Lower Elementary East Classroom\n\nEvent Overview:\n \n\nYour child will present a piece of material they have learned\, sharing their understanding in a thoughtful and engaging manner.\n\nThey will also perform a short French play\, which they have been rehearsing as part of their language studies.\n\n\n\n\nThis is a great opportunity for you to witness your child’s growth and see how they’ve embraced their learning. We encourage you to attend and show your support as they take pride in what they’ve accomplished. \nWe look forward to seeing you on April 16th!
URL:https://clanmore.ca/event/lee-student-led-classroom-demonstrations/
END:VEVENT
BEGIN:VEVENT
DTSTART;TZID=America/Toronto:20250416T151500
DTEND;TZID=America/Toronto:20250416T154500
DTSTAMP:20260422T070827
CREATED:20240603T174739Z
LAST-MODIFIED:20250326T195718Z
UID:10000741-1744816500-1744818300@clanmore.ca
SUMMARY:Upper Elementary Program Orientation For Parents of Children ENTERING the UE Program in the School Year
DESCRIPTION:
URL:https://clanmore.ca/event/upper-elementary-program-orientation-for-parents-of-children-entering-the-ue-program-in-the-school-year/
END:VEVENT
END:VCALENDAR