BEGIN:VCALENDAR
VERSION:2.0
PRODID:-//Clanmore - ECPv6.15.20//NONSGML v1.0//EN
CALSCALE:GREGORIAN
METHOD:PUBLISH
X-ORIGINAL-URL:https://clanmore.ca
X-WR-CALDESC:Events for Clanmore
REFRESH-INTERVAL;VALUE=DURATION:PT1H
X-Robots-Tag:noindex
X-PUBLISHED-TTL:PT1H
BEGIN:VTIMEZONE
TZID:America/Toronto
BEGIN:DAYLIGHT
TZOFFSETFROM:-0500
TZOFFSETTO:-0400
TZNAME:EDT
DTSTART:20250309T070000
END:DAYLIGHT
BEGIN:STANDARD
TZOFFSETFROM:-0400
TZOFFSETTO:-0500
TZNAME:EST
DTSTART:20251102T060000
END:STANDARD
BEGIN:DAYLIGHT
TZOFFSETFROM:-0500
TZOFFSETTO:-0400
TZNAME:EDT
DTSTART:20260308T070000
END:DAYLIGHT
BEGIN:STANDARD
TZOFFSETFROM:-0400
TZOFFSETTO:-0500
TZNAME:EST
DTSTART:20261101T060000
END:STANDARD
BEGIN:DAYLIGHT
TZOFFSETFROM:-0500
TZOFFSETTO:-0400
TZNAME:EDT
DTSTART:20270314T070000
END:DAYLIGHT
BEGIN:STANDARD
TZOFFSETFROM:-0400
TZOFFSETTO:-0500
TZNAME:EST
DTSTART:20271107T060000
END:STANDARD
END:VTIMEZONE
BEGIN:VEVENT
DTSTART;TZID=America/Toronto:20260508T104500
DTEND;TZID=America/Toronto:20260508T111500
DTSTAMP:20260423T072607
CREATED:20260302T143343Z
LAST-MODIFIED:20260423T103026Z
UID:10001068-1778237100-1778238900@clanmore.ca
SUMMARY:Toddler: Parent-Child Music Program
DESCRIPTION:Dear Toddler Parents\, \nWe are looking forward to our annual Parent-Child Music Program. This program will take place during the month of May. Parents are invited to join us for some fun and music with the children every Friday during the month of May  (with the exception of May 15th – Victoria Day weekend ). It is a four-week program based on the Musikgarten Curriculum that Clanmore uses in all our preschool programs. \nClasses are led by our Toddler Music Teacher\, Cosima Loranger\, who is an exceptional singer & songwriter with extensive knowledge of the Musikgarten program and has been using the curriculum over the last 8 years at Clanmore Montessori School. \nClasses will take place every Friday (May 1st\, 8th\, 22nd and 29th) 10:45 am to 11:15 am in the Toddler Room. Please arrive at the front entrance\, gather and head to the Toddler Room where your children will be waiting for you. It is a wonderful time to bond through music and movement with your little one and an opportunity to add more songs to your repertoire. In addition to learning new songs\, there will be pitch matching\, rhythmic patterning\, and keeping a steady beat with instruments. \nPlease note that we would be delighted to see grandparents\, aunts\, uncles\, or nannies​ in the event that a parent is unable to join us. \nAt 11:15 am half-day children will go home with their parents and full-day children will stay in the class and get ready for outdoor play. Full-day parents who would like to take their children home are welcome to. \n​**Please remember to park in the back parking lot\, located behind the school. 
URL:https://clanmore.ca/event/toddler-parent-child-music-program-2/
END:VEVENT
END:VCALENDAR