BEGIN:VCALENDAR
VERSION:2.0
PRODID:-//Clanmore - ECPv6.15.20//NONSGML v1.0//EN
CALSCALE:GREGORIAN
METHOD:PUBLISH
X-ORIGINAL-URL:https://clanmore.ca
X-WR-CALDESC:Events for Clanmore
REFRESH-INTERVAL;VALUE=DURATION:PT1H
X-Robots-Tag:noindex
X-PUBLISHED-TTL:PT1H
BEGIN:VTIMEZONE
TZID:America/Toronto
BEGIN:DAYLIGHT
TZOFFSETFROM:-0500
TZOFFSETTO:-0400
TZNAME:EDT
DTSTART:20250309T070000
END:DAYLIGHT
BEGIN:STANDARD
TZOFFSETFROM:-0400
TZOFFSETTO:-0500
TZNAME:EST
DTSTART:20251102T060000
END:STANDARD
BEGIN:DAYLIGHT
TZOFFSETFROM:-0500
TZOFFSETTO:-0400
TZNAME:EDT
DTSTART:20260308T070000
END:DAYLIGHT
BEGIN:STANDARD
TZOFFSETFROM:-0400
TZOFFSETTO:-0500
TZNAME:EST
DTSTART:20261101T060000
END:STANDARD
BEGIN:DAYLIGHT
TZOFFSETFROM:-0500
TZOFFSETTO:-0400
TZNAME:EDT
DTSTART:20270314T070000
END:DAYLIGHT
BEGIN:STANDARD
TZOFFSETFROM:-0400
TZOFFSETTO:-0500
TZNAME:EST
DTSTART:20271107T060000
END:STANDARD
END:VTIMEZONE
BEGIN:VEVENT
DTSTART;TZID=America/Toronto:20260512T093000
DTEND;TZID=America/Toronto:20260512T113000
DTSTAMP:20260423T215701
CREATED:20260416T071922Z
LAST-MODIFIED:20260424T012323Z
UID:10001093-1778578200-1778585400@clanmore.ca
SUMMARY:Toddler/MS Class Photo Day (backup)
DESCRIPTION:Class Photos (Toddler\, MS\, MS Grad)\nIndividual Grad Portraits
URL:https://clanmore.ca/event/toddler-ms-class-photo-day-backup/
END:VEVENT
BEGIN:VEVENT
DTSTART;TZID=America/Toronto:20260512T093000
DTEND;TZID=America/Toronto:20260512T113000
DTSTAMP:20260423T215701
CREATED:20260416T071931Z
LAST-MODIFIED:20260416T071931Z
UID:10001094-1778578200-1778585400@clanmore.ca
SUMMARY:Toddler/MS Class Photo Day (backup)
DESCRIPTION:Class Photos (Toddler\, MS\, MS Grad)\nIndividual Grad Portraits
URL:https://clanmore.ca/event/toddler-ms-class-photo-day-backup-2/
END:VEVENT
BEGIN:VEVENT
DTSTART;TZID=America/Toronto:20260512T154500
DTEND;TZID=America/Toronto:20260512T171500
DTSTAMP:20260423T215701
CREATED:20260412T233936Z
LAST-MODIFIED:20260424T012328Z
UID:10001087-1778600700-1778606100@clanmore.ca
SUMMARY:Chess Co-curricular
DESCRIPTION:
URL:https://clanmore.ca/event/chess-co-curricular-40/
END:VEVENT
END:VCALENDAR