BEGIN:VCALENDAR
VERSION:2.0
PRODID:-//Clanmore - ECPv6.15.20//NONSGML v1.0//EN
CALSCALE:GREGORIAN
METHOD:PUBLISH
X-ORIGINAL-URL:https://clanmore.ca
X-WR-CALDESC:Events for Clanmore
REFRESH-INTERVAL;VALUE=DURATION:PT1H
X-Robots-Tag:noindex
X-PUBLISHED-TTL:PT1H
BEGIN:VTIMEZONE
TZID:America/Toronto
BEGIN:DAYLIGHT
TZOFFSETFROM:-0500
TZOFFSETTO:-0400
TZNAME:EDT
DTSTART:20250309T070000
END:DAYLIGHT
BEGIN:STANDARD
TZOFFSETFROM:-0400
TZOFFSETTO:-0500
TZNAME:EST
DTSTART:20251102T060000
END:STANDARD
BEGIN:DAYLIGHT
TZOFFSETFROM:-0500
TZOFFSETTO:-0400
TZNAME:EDT
DTSTART:20260308T070000
END:DAYLIGHT
BEGIN:STANDARD
TZOFFSETFROM:-0400
TZOFFSETTO:-0500
TZNAME:EST
DTSTART:20261101T060000
END:STANDARD
BEGIN:DAYLIGHT
TZOFFSETFROM:-0500
TZOFFSETTO:-0400
TZNAME:EDT
DTSTART:20270314T070000
END:DAYLIGHT
BEGIN:STANDARD
TZOFFSETFROM:-0400
TZOFFSETTO:-0500
TZNAME:EST
DTSTART:20271107T060000
END:STANDARD
END:VTIMEZONE
BEGIN:VEVENT
DTSTART;TZID=America/Toronto:20260519T133000
DTEND;TZID=America/Toronto:20260519T153000
DTSTAMP:20260423T055636
CREATED:20260306T155259Z
LAST-MODIFIED:20260423T085659Z
UID:10001071-1779197400-1779204600@clanmore.ca
SUMMARY:French Demonstrations & Cafe (LEW Year 1-3)
DESCRIPTION:SAVE THE DATE! \nDear Elementary Parents\, \nWe would be delighted to have you join us for our French Demonstrations and Cafe. The children are excited to showcase their French talent! Please note the dates and times below.  \n\n\n\n\nTuesday May 19th \n\n\nTuesday May 26th  \n\n\nFriday May 22nd  \n\n\n  Friday May 29th   \n\n\n\n\nLower West yr 1  demo 1:30-2:00  \nCafe 2:00-2:30 \n\n\nLower East yr 1 demo 1:30-2:00  \nCafe 2:00–2:30 \n\n\nUpper East yr 4 demo 1:30-2:00  \nCafe 2:00-2:30 \n\n\nUpper West yr 4  demo 1:30-2:00  \nCafe 2:00-2:30 \n\n\n\n\nLower West yr 2 demo 2:00-2:30 \nCafe 2:30-3:00 \n\n\nLower East yr 2 demo 2:00-2:30 \nCafe 2:30-3:00 \n\n\nUpper East yr 5 demo 2:00-2:30 \nCafe 2:30-3:00 \n\n\nUpper West yr 5 demo 2:00-2:30 \nCafe 2:30-3:00 \n\n\n\n\nLower West yr 3 demo 2:30-3:00 \nCafe 3:00-3:30 \n\n\nLower East yr 3 demo 2:30-3:00 \nCafe 3:00-3:30 \n\n\nUpper East/West    yr 6 (all) \ndemo 2:30-3:00 \nCafe 3:00-3:30 \n\n\nN/A \n\n\n\n\n \n                         
URL:https://clanmore.ca/event/french-demonstrations-cafe-lew-year-1-3/
END:VEVENT
BEGIN:VEVENT
DTSTART;TZID=America/Toronto:20260519T133000
DTEND;TZID=America/Toronto:20260519T153000
DTSTAMP:20260423T055636
CREATED:20260306T155322Z
LAST-MODIFIED:20260306T155322Z
UID:10001073-1779197400-1779204600@clanmore.ca
SUMMARY:French Demonstrations & Cafe (LEW Year 1-3)
DESCRIPTION:SAVE THE DATE! \nDear Elementary Parents\, \nWe would be delighted to have you join us for our French Demonstrations and Cafe. The children are excited to showcase their French talent! Please note the dates and times below.  \n\n\n\n\nTuesday May 19th \n\n\nTuesday May 26th  \n\n\nFriday May 22nd  \n\n\n  Friday May 29th   \n\n\n\n\nLower West yr 1  demo 1:30-2:00  \nCafe 2:00-2:30 \n\n\nLower East yr 1 demo 1:30-2:00  \nCafe 2:00–2:30 \n\n\nUpper East yr 4 demo 1:30-2:00  \nCafe 2:00-2:30 \n\n\nUpper West yr 4  demo 1:30-2:00  \nCafe 2:00-2:30 \n\n\n\n\nLower West yr 2 demo 2:00-2:30 \nCafe 2:30-3:00 \n\n\nLower East yr 2 demo 2:00-2:30 \nCafe 2:30-3:00 \n\n\nUpper East yr 5 demo 2:00-2:30 \nCafe 2:30-3:00 \n\n\nUpper West yr 5 demo 2:00-2:30 \nCafe 2:30-3:00 \n\n\n\n\nLower West yr 3 demo 2:30-3:00 \nCafe 3:00-3:30 \n\n\nLower East yr 3 demo 2:30-3:00 \nCafe 3:00-3:30 \n\n\nUpper East/West    yr 6 (all) \ndemo 2:30-3:00 \nCafe 3:00-3:30 \n\n\nN/A \n\n\n\n\n \n                         
URL:https://clanmore.ca/event/french-demonstrations-cafe-lew-year-1-3-2/
END:VEVENT
BEGIN:VEVENT
DTSTART;TZID=America/Toronto:20260519T154500
DTEND;TZID=America/Toronto:20260519T171500
DTSTAMP:20260423T055636
CREATED:20260412T234026Z
LAST-MODIFIED:20260423T085704Z
UID:10001089-1779205500-1779210900@clanmore.ca
SUMMARY:Chess Co-curricular
DESCRIPTION:
URL:https://clanmore.ca/event/chess-co-curricular-41/
END:VEVENT
END:VCALENDAR